BEGIN:VCALENDAR
VERSION:2.0
PRODID:-//Center Township - ECPv6.15.20//NONSGML v1.0//EN
CALSCALE:GREGORIAN
METHOD:PUBLISH
X-WR-CALNAME:Center Township
X-ORIGINAL-URL:https://centertwpgreene.com
X-WR-CALDESC:Events for Center Township
REFRESH-INTERVAL;VALUE=DURATION:PT1H
X-Robots-Tag:noindex
X-PUBLISHED-TTL:PT1H
BEGIN:VTIMEZONE
TZID:America/New_York
BEGIN:DAYLIGHT
TZOFFSETFROM:-0500
TZOFFSETTO:-0400
TZNAME:EDT
DTSTART:20240310T070000
END:DAYLIGHT
BEGIN:STANDARD
TZOFFSETFROM:-0400
TZOFFSETTO:-0500
TZNAME:EST
DTSTART:20241103T060000
END:STANDARD
BEGIN:DAYLIGHT
TZOFFSETFROM:-0500
TZOFFSETTO:-0400
TZNAME:EDT
DTSTART:20250309T070000
END:DAYLIGHT
BEGIN:STANDARD
TZOFFSETFROM:-0400
TZOFFSETTO:-0500
TZNAME:EST
DTSTART:20251102T060000
END:STANDARD
BEGIN:DAYLIGHT
TZOFFSETFROM:-0500
TZOFFSETTO:-0400
TZNAME:EDT
DTSTART:20260308T070000
END:DAYLIGHT
BEGIN:STANDARD
TZOFFSETFROM:-0400
TZOFFSETTO:-0500
TZNAME:EST
DTSTART:20261101T060000
END:STANDARD
END:VTIMEZONE
BEGIN:VEVENT
DTSTART;TZID=America/New_York:20250513T170000
DTEND;TZID=America/New_York:20250513T180000
DTSTAMP:20260422T164315
CREATED:20250213T145532Z
LAST-MODIFIED:20250213T145756Z
UID:536-1747155600-1747159200@centertwpgreene.com
SUMMARY:May 2025 Supervisor's Meeting
DESCRIPTION:Center Township Supervisors meetings are scheduled for the second Tuesday of each month at 5:00pm and are open to the public.
URL:https://centertwpgreene.com/event/may-2025-supervisors-meeting/
LOCATION:Supervisor’s Building\, 100 Municipal Drive\, Rogersville\, PA\, 15359\, United States
CATEGORIES:Supervisor Meeting
END:VEVENT
BEGIN:VEVENT
DTSTART;TZID=America/New_York:20250408T170000
DTEND;TZID=America/New_York:20250408T180000
DTSTAMP:20260422T164315
CREATED:20250213T145305Z
LAST-MODIFIED:20250213T145752Z
UID:532-1744131600-1744135200@centertwpgreene.com
SUMMARY:April 2025 Supervisor's Meeting
DESCRIPTION:Center Township Supervisors meetings are scheduled for the second Tuesday of each month at 5:00pm and are open to the public.
URL:https://centertwpgreene.com/event/april-2025-supervisors-meeting/
LOCATION:Supervisor’s Building\, 100 Municipal Drive\, Rogersville\, PA\, 15359\, United States
CATEGORIES:Supervisor Meeting
END:VEVENT
BEGIN:VEVENT
DTSTART;TZID=America/New_York:20250311T170000
DTEND;TZID=America/New_York:20250311T180000
DTSTAMP:20260422T164315
CREATED:20241220T143738Z
LAST-MODIFIED:20250213T145747Z
UID:180-1741712400-1741716000@centertwpgreene.com
SUMMARY:March 2025 Supervisor's Meeting
DESCRIPTION:Center Township Supervisors meetings are scheduled for the second Tuesday of each month at 5:00pm and are open to the public.
URL:https://centertwpgreene.com/event/march-2025-supervisors-meeting/
LOCATION:Supervisor’s Building\, 100 Municipal Drive\, Rogersville\, PA\, 15359\, United States
CATEGORIES:Supervisor Meeting
END:VEVENT
BEGIN:VEVENT
DTSTART;TZID=America/New_York:20250211T170000
DTEND;TZID=America/New_York:20250211T180000
DTSTAMP:20260422T164315
CREATED:20241212T202120Z
LAST-MODIFIED:20250213T145742Z
UID:166-1739293200-1739296800@centertwpgreene.com
SUMMARY:February 2025 Supervisor's Meeting
DESCRIPTION:Center Township Supervisors meetings are scheduled for the second Tuesday of each month at 5:00pm and are open to the public.
URL:https://centertwpgreene.com/event/february-2025-supervisors-meeting/
LOCATION:Supervisor’s Building\, 100 Municipal Drive\, Rogersville\, PA\, 15359\, United States
CATEGORIES:Supervisor Meeting
END:VEVENT
BEGIN:VEVENT
DTSTART;TZID=America/New_York:20250107T170000
DTEND;TZID=America/New_York:20250107T180000
DTSTAMP:20260422T164315
CREATED:20241220T143308Z
LAST-MODIFIED:20241220T143308Z
UID:176-1736269200-1736272800@centertwpgreene.com
SUMMARY:Organizational Meeting 2025
DESCRIPTION:
URL:https://centertwpgreene.com/event/organizational-meeting-2025/
LOCATION:Supervisor’s Building\, 100 Municipal Drive\, Rogersville\, PA\, 15359\, United States
CATEGORIES:Supervisor Meeting
END:VEVENT
END:VCALENDAR