BEGIN:VCALENDAR
VERSION:2.0
PRODID:-//Center Township - ECPv6.15.20//NONSGML v1.0//EN
CALSCALE:GREGORIAN
METHOD:PUBLISH
X-WR-CALNAME:Center Township
X-ORIGINAL-URL:https://centertwpgreene.com
X-WR-CALDESC:Events for Center Township
REFRESH-INTERVAL;VALUE=DURATION:PT1H
X-Robots-Tag:noindex
X-PUBLISHED-TTL:PT1H
BEGIN:VTIMEZONE
TZID:America/New_York
BEGIN:DAYLIGHT
TZOFFSETFROM:-0500
TZOFFSETTO:-0400
TZNAME:EDT
DTSTART:20240310T070000
END:DAYLIGHT
BEGIN:STANDARD
TZOFFSETFROM:-0400
TZOFFSETTO:-0500
TZNAME:EST
DTSTART:20241103T060000
END:STANDARD
BEGIN:DAYLIGHT
TZOFFSETFROM:-0500
TZOFFSETTO:-0400
TZNAME:EDT
DTSTART:20250309T070000
END:DAYLIGHT
BEGIN:STANDARD
TZOFFSETFROM:-0400
TZOFFSETTO:-0500
TZNAME:EST
DTSTART:20251102T060000
END:STANDARD
BEGIN:DAYLIGHT
TZOFFSETFROM:-0500
TZOFFSETTO:-0400
TZNAME:EDT
DTSTART:20260308T070000
END:DAYLIGHT
BEGIN:STANDARD
TZOFFSETFROM:-0400
TZOFFSETTO:-0500
TZNAME:EST
DTSTART:20261101T060000
END:STANDARD
BEGIN:DAYLIGHT
TZOFFSETFROM:-0500
TZOFFSETTO:-0400
TZNAME:EDT
DTSTART:20270314T070000
END:DAYLIGHT
BEGIN:STANDARD
TZOFFSETFROM:-0400
TZOFFSETTO:-0500
TZNAME:EST
DTSTART:20271107T060000
END:STANDARD
END:VTIMEZONE
BEGIN:VEVENT
DTSTART;TZID=America/New_York:20260414T170000
DTEND;TZID=America/New_York:20260414T180000
DTSTAMP:20260422T143201
CREATED:20260107T060528Z
LAST-MODIFIED:20260107T060645Z
UID:815-1776186000-1776189600@centertwpgreene.com
SUMMARY:April 2026 Supervisor's Meeting
DESCRIPTION:Center Township Supervisor’s meetings are scheduled for the second Tuesday of each month at 5:00pm and are open to the public.
URL:https://centertwpgreene.com/event/april-2026-supervisors-meeting/
LOCATION:Supervisor’s Building\, 100 Municipal Drive\, Rogersville\, PA\, 15359\, United States
CATEGORIES:Supervisor Meeting
END:VEVENT
BEGIN:VEVENT
DTSTART;TZID=America/New_York:20260310T170000
DTEND;TZID=America/New_York:20260310T180000
DTSTAMP:20260422T143201
CREATED:20260107T060421Z
LAST-MODIFIED:20260107T060421Z
UID:813-1773162000-1773165600@centertwpgreene.com
SUMMARY:March 2026 Supervisor's Meeting
DESCRIPTION:Center Township Supervisor’s meetings are scheduled for the second Tuesday of each month at 5:00pm and are open to the public.
URL:https://centertwpgreene.com/event/march-2026-supervisors-meeting/
LOCATION:Supervisor’s Building\, 100 Municipal Drive\, Rogersville\, PA\, 15359\, United States
CATEGORIES:Supervisor Meeting
END:VEVENT
BEGIN:VEVENT
DTSTART;TZID=America/New_York:20260210T170000
DTEND;TZID=America/New_York:20260210T180000
DTSTAMP:20260422T143201
CREATED:20260107T060317Z
LAST-MODIFIED:20260107T060317Z
UID:811-1770742800-1770746400@centertwpgreene.com
SUMMARY:February 2026 Supervisor's Meeting
DESCRIPTION:Center Township Supervisor’s meetings are scheduled for the second Tuesday of each month at 5:00pm and are open to the public.
URL:https://centertwpgreene.com/event/february-2026-supervisors-meeting/
LOCATION:Supervisor’s Building\, 100 Municipal Drive\, Rogersville\, PA\, 15359\, United States
CATEGORIES:Supervisor Meeting
END:VEVENT
BEGIN:VEVENT
DTSTART;TZID=America/New_York:20251209T170000
DTEND;TZID=America/New_York:20251209T180000
DTSTAMP:20260422T143201
CREATED:20250213T150244Z
LAST-MODIFIED:20250213T150244Z
UID:560-1765299600-1765303200@centertwpgreene.com
SUMMARY:December 2025 Supervisor's Meeting
DESCRIPTION:Center Township Supervisor’s meetings are scheduled for the second Tuesday of each month at 5:00pm and are open to the public.
URL:https://centertwpgreene.com/event/december-2025-supervisors-meeting/
LOCATION:Supervisor’s Building\, 100 Municipal Drive\, Rogersville\, PA\, 15359\, United States
CATEGORIES:Supervisor Meeting
END:VEVENT
BEGIN:VEVENT
DTSTART;TZID=America/New_York:20251110T170000
DTEND;TZID=America/New_York:20251110T180000
DTSTAMP:20260422T143201
CREATED:20250213T150159Z
LAST-MODIFIED:20251015T153203Z
UID:558-1762794000-1762797600@centertwpgreene.com
SUMMARY:November 2025 Supervisor's Meeting
DESCRIPTION:Center Township Supervisor’s meetings are scheduled for the second Tuesday of each month at 5:00pm and are open to the public. Meeting date changed as the regular date falls on Veteran’s Day
URL:https://centertwpgreene.com/event/november-2025-supervisors-meeting/
LOCATION:Supervisor’s Building\, 100 Municipal Drive\, Rogersville\, PA\, 15359\, United States
CATEGORIES:Supervisor Meeting
END:VEVENT
BEGIN:VEVENT
DTSTART;TZID=America/New_York:20251014T170000
DTEND;TZID=America/New_York:20251014T180000
DTSTAMP:20260422T143201
CREATED:20250213T150101Z
LAST-MODIFIED:20250213T150119Z
UID:554-1760461200-1760464800@centertwpgreene.com
SUMMARY:October 2025 Supervisor's Meeting
DESCRIPTION:Center Township Supervisor’s meetings are scheduled for the second Tuesday of each month at 5:00pm and are open to the public.
URL:https://centertwpgreene.com/event/october-2025-supervisors-meeting/
LOCATION:Supervisor’s Building\, 100 Municipal Drive\, Rogersville\, PA\, 15359\, United States
CATEGORIES:Supervisor Meeting
END:VEVENT
BEGIN:VEVENT
DTSTART;TZID=America/New_York:20250909T170000
DTEND;TZID=America/New_York:20250909T180000
DTSTAMP:20260422T143201
CREATED:20250213T150005Z
LAST-MODIFIED:20250213T150005Z
UID:552-1757437200-1757440800@centertwpgreene.com
SUMMARY:September 2025 Supervisor's Meeting
DESCRIPTION:Center Township Supervisor’s meetings are scheduled for the second Tuesday of each month at 5:00pm and are open to the public.
URL:https://centertwpgreene.com/event/september-2025-supervisors-meeting/
LOCATION:Supervisor’s Building\, 100 Municipal Drive\, Rogersville\, PA\, 15359\, United States
CATEGORIES:Supervisor Meeting
END:VEVENT
BEGIN:VEVENT
DTSTART;TZID=America/New_York:20250812T170000
DTEND;TZID=America/New_York:20250812T180000
DTSTAMP:20260422T143201
CREATED:20250213T145923Z
LAST-MODIFIED:20250213T145923Z
UID:550-1755018000-1755021600@centertwpgreene.com
SUMMARY:August 2025 Supervisor's Meeting
DESCRIPTION:Center Township Supervisor’s meetings are scheduled for the second Tuesday of each month at 5:00pm and are open to the public.
URL:https://centertwpgreene.com/event/august-2025-supervisors-meeting/
LOCATION:PA
CATEGORIES:Supervisor Meeting
END:VEVENT
BEGIN:VEVENT
DTSTART;TZID=America/New_York:20250708T170000
DTEND;TZID=America/New_York:20250708T180000
DTSTAMP:20260422T143201
CREATED:20250213T145846Z
LAST-MODIFIED:20250213T145846Z
UID:548-1751994000-1751997600@centertwpgreene.com
SUMMARY:July 2025 Supervisor's Meeting
DESCRIPTION:Center Township Supervisor’s meetings are scheduled for the second Tuesday of each month at 5:00pm and are open to the public.
URL:https://centertwpgreene.com/event/july-2025-supervisors-meeting/
LOCATION:Supervisor’s Building\, 100 Municipal Drive\, Rogersville\, PA\, 15359\, United States
CATEGORIES:Supervisor Meeting
END:VEVENT
BEGIN:VEVENT
DTSTART;TZID=America/New_York:20250610T170000
DTEND;TZID=America/New_York:20250610T180000
DTSTAMP:20260422T143201
CREATED:20250213T145648Z
LAST-MODIFIED:20250213T145804Z
UID:538-1749574800-1749578400@centertwpgreene.com
SUMMARY:June 2025 Supervisor's Meeting
DESCRIPTION:Center Township Supervisor’s meetings are scheduled for the second Tuesday of each month at 5:00pm and are open to the public.
URL:https://centertwpgreene.com/event/june-2025-supervisors-meeting/
LOCATION:Supervisor’s Building\, 100 Municipal Drive\, Rogersville\, PA\, 15359\, United States
CATEGORIES:Supervisor Meeting
END:VEVENT
BEGIN:VEVENT
DTSTART;TZID=America/New_York:20250513T170000
DTEND;TZID=America/New_York:20250513T180000
DTSTAMP:20260422T143201
CREATED:20250213T145532Z
LAST-MODIFIED:20250213T145756Z
UID:536-1747155600-1747159200@centertwpgreene.com
SUMMARY:May 2025 Supervisor's Meeting
DESCRIPTION:Center Township Supervisors meetings are scheduled for the second Tuesday of each month at 5:00pm and are open to the public.
URL:https://centertwpgreene.com/event/may-2025-supervisors-meeting/
LOCATION:Supervisor’s Building\, 100 Municipal Drive\, Rogersville\, PA\, 15359\, United States
CATEGORIES:Supervisor Meeting
END:VEVENT
BEGIN:VEVENT
DTSTART;TZID=America/New_York:20250408T170000
DTEND;TZID=America/New_York:20250408T180000
DTSTAMP:20260422T143201
CREATED:20250213T145305Z
LAST-MODIFIED:20250213T145752Z
UID:532-1744131600-1744135200@centertwpgreene.com
SUMMARY:April 2025 Supervisor's Meeting
DESCRIPTION:Center Township Supervisors meetings are scheduled for the second Tuesday of each month at 5:00pm and are open to the public.
URL:https://centertwpgreene.com/event/april-2025-supervisors-meeting/
LOCATION:Supervisor’s Building\, 100 Municipal Drive\, Rogersville\, PA\, 15359\, United States
CATEGORIES:Supervisor Meeting
END:VEVENT
BEGIN:VEVENT
DTSTART;TZID=America/New_York:20250311T170000
DTEND;TZID=America/New_York:20250311T180000
DTSTAMP:20260422T143201
CREATED:20241220T143738Z
LAST-MODIFIED:20250213T145747Z
UID:180-1741712400-1741716000@centertwpgreene.com
SUMMARY:March 2025 Supervisor's Meeting
DESCRIPTION:Center Township Supervisors meetings are scheduled for the second Tuesday of each month at 5:00pm and are open to the public.
URL:https://centertwpgreene.com/event/march-2025-supervisors-meeting/
LOCATION:Supervisor’s Building\, 100 Municipal Drive\, Rogersville\, PA\, 15359\, United States
CATEGORIES:Supervisor Meeting
END:VEVENT
BEGIN:VEVENT
DTSTART;TZID=America/New_York:20250211T170000
DTEND;TZID=America/New_York:20250211T180000
DTSTAMP:20260422T143201
CREATED:20241212T202120Z
LAST-MODIFIED:20250213T145742Z
UID:166-1739293200-1739296800@centertwpgreene.com
SUMMARY:February 2025 Supervisor's Meeting
DESCRIPTION:Center Township Supervisors meetings are scheduled for the second Tuesday of each month at 5:00pm and are open to the public.
URL:https://centertwpgreene.com/event/february-2025-supervisors-meeting/
LOCATION:Supervisor’s Building\, 100 Municipal Drive\, Rogersville\, PA\, 15359\, United States
CATEGORIES:Supervisor Meeting
END:VEVENT
BEGIN:VEVENT
DTSTART;TZID=America/New_York:20250107T170000
DTEND;TZID=America/New_York:20250107T180000
DTSTAMP:20260422T143201
CREATED:20241220T143308Z
LAST-MODIFIED:20241220T143308Z
UID:176-1736269200-1736272800@centertwpgreene.com
SUMMARY:Organizational Meeting 2025
DESCRIPTION:
URL:https://centertwpgreene.com/event/organizational-meeting-2025/
LOCATION:Supervisor’s Building\, 100 Municipal Drive\, Rogersville\, PA\, 15359\, United States
CATEGORIES:Supervisor Meeting
END:VEVENT
END:VCALENDAR