BEGIN:VCALENDAR
VERSION:2.0
PRODID:-//Center Township - ECPv6.15.20//NONSGML v1.0//EN
CALSCALE:GREGORIAN
METHOD:PUBLISH
X-WR-CALNAME:Center Township
X-ORIGINAL-URL:https://centertwpgreene.com
X-WR-CALDESC:Events for Center Township
REFRESH-INTERVAL;VALUE=DURATION:PT1H
X-Robots-Tag:noindex
X-PUBLISHED-TTL:PT1H
BEGIN:VTIMEZONE
TZID:America/New_York
BEGIN:DAYLIGHT
TZOFFSETFROM:-0500
TZOFFSETTO:-0400
TZNAME:EDT
DTSTART:20240310T070000
END:DAYLIGHT
BEGIN:STANDARD
TZOFFSETFROM:-0400
TZOFFSETTO:-0500
TZNAME:EST
DTSTART:20241103T060000
END:STANDARD
BEGIN:DAYLIGHT
TZOFFSETFROM:-0500
TZOFFSETTO:-0400
TZNAME:EDT
DTSTART:20250309T070000
END:DAYLIGHT
BEGIN:STANDARD
TZOFFSETFROM:-0400
TZOFFSETTO:-0500
TZNAME:EST
DTSTART:20251102T060000
END:STANDARD
BEGIN:DAYLIGHT
TZOFFSETFROM:-0500
TZOFFSETTO:-0400
TZNAME:EDT
DTSTART:20260308T070000
END:DAYLIGHT
BEGIN:STANDARD
TZOFFSETFROM:-0400
TZOFFSETTO:-0500
TZNAME:EST
DTSTART:20261101T060000
END:STANDARD
END:VTIMEZONE
BEGIN:VEVENT
DTSTART;TZID=America/New_York:20250926T080000
DTEND;TZID=America/New_York:20250927T140000
DTSTAMP:20260422T220548
CREATED:20250213T152649Z
LAST-MODIFIED:20250228T170737Z
UID:564-1758873600-1758981600@centertwpgreene.com
SUMMARY:Fall Clean Up Days 2025
DESCRIPTION:
URL:https://centertwpgreene.com/event/fall-clean-up-days-2025/
LOCATION:Supervisor’s Building\, 100 Municipal Drive\, Rogersville\, PA\, 15359\, United States
CATEGORIES:Clean Up Days,Community
END:VEVENT
BEGIN:VEVENT
DTSTART;TZID=America/New_York:20250425T080000
DTEND;TZID=America/New_York:20250426T160000
DTSTAMP:20260422T220548
CREATED:20250213T152619Z
LAST-MODIFIED:20250318T182350Z
UID:562-1745568000-1745683200@centertwpgreene.com
SUMMARY:Spring Clean Up Days 2025
DESCRIPTION:The Center Township Supervisors will hold Clean Up Days for Center Twp. residents only on the following dates: \nFriday\, April 25th from 8:00 a.m. to 4:00 p.m.\nand\nSaturday\, April 26th from 8:00 a.m. to 4:00 p.m. \nPassenger and light truck tires will be accepted with a $3.00 fee for each tire. Commercial or agricultural tires WILL NOT be accepted. \nElectronics will be accepted but must be kept separate and dry. \nHousehold trash\, roofing shingles and scrap wood cannot be accepted. \nItems may be dropped off at the Township Building\, 100 Municipal Drive in Rogersville at the above times only. \nFor more information\, call the Township office at 724-499-5487 or email centertwpgr@windstream.net
URL:https://centertwpgreene.com/event/spring-clean-up-days-2025/
LOCATION:Supervisor’s Building\, 100 Municipal Drive\, Rogersville\, PA\, 15359\, United States
CATEGORIES:Clean Up Days,Community
END:VEVENT
END:VCALENDAR